BEGIN:VCALENDAR
VERSION:2.0
PRODID:-//Tukios.com/
BEGIN:VEVENT
UID:8d2c523e-daba-41fb-bafc-8bf0fcaf3214@www.congdonfuneralhome.com
DTSTAMP:20260422T204353Z
DTSTART:20260427T170000Z
DTEND:20260427T180000Z
SUMMARY:Memorial Service
DESCRIPTION:
URL:https://www.congdonfuneralhome.com/obituaries/karl-krass
LOCATION: 2500 Dowie Memorial Drive  Zion IL 60099
GEO:42.450074;-87.833776
END:VEVENT
END:VCALENDAR