BEGIN:VCALENDAR
VERSION:2.0
PRODID:-//Tukios.com/
BEGIN:VEVENT
UID:1c86f10a-bde1-484d-8fe6-ca394c075b08@www.congdonfuneralhome.com
DTSTAMP:20260422T204511Z
DTSTART:20260427T150000Z
DTEND:20260427T170000Z
SUMMARY:Memorial Visitation
DESCRIPTION:
URL:https://www.congdonfuneralhome.com/obituaries/karl-krass
LOCATION: 2500 Dowie Memorial Drive  Zion IL 60099
GEO:42.450074;-87.833776
END:VEVENT
END:VCALENDAR