BEGIN:VCALENDAR
VERSION:2.0
PRODID:-//Tukios.com/
BEGIN:VEVENT
UID:0289bfca-a7d1-4bbf-86ee-c9bd1159c77e@www.congdonfuneralhome.com
DTSTAMP:20260425T191506Z
DTSTART:20260502T150000Z
DTEND:20260502T160000Z
SUMMARY:Interment
DESCRIPTION:
URL:https://www.congdonfuneralhome.com/obituaries/dolores-stclair
LOCATION:Mount Olivet Memorial Park 1436 North Kenosha Road  Zion IL 
	60099
GEO:42.4682592;-87.8653015
END:VEVENT
END:VCALENDAR